BEGIN:VCALENDAR
VERSION:2.0
PRODID:-//Tukios.com/
BEGIN:VEVENT
UID:b8a7ff40-fff4-40b5-ac3e-e4307bc34c0c@www.leibenspergerfuneralhome.com
DTSTAMP:20260421T140147Z
DTSTART:20260516T180000Z
DTEND:20260516T190000Z
SUMMARY:Memorial Service
DESCRIPTION:
URL:https://www.leibenspergerfuneralhome.com/obituaries/phyllis-ernst
LOCATION:Mohrsville Church of the Brethren 1542 Shoey Road  Mohrsville PA 
	19541
GEO:40.4857645;-75.9933177
END:VEVENT
END:VCALENDAR