BEGIN:VCALENDAR
VERSION:2.0
PRODID:-//Tukios.com/
BEGIN:VEVENT
UID:d30646c8-b934-40b5-bb64-c88db44060f0@www.leibenspergerfuneralhome.com
DTSTAMP:20260419T235559Z
DTSTART:20260423T160000Z
DTEND:20260423T173000Z
SUMMARY:Same Day Viewing
DESCRIPTION:
URL:https://www.leibenspergerfuneralhome.com/obituaries/paul-correll
LOCATION:Leibensperger Funeral Homes, Inc. 65 S. 4th Street  Hamburg PA 
	19526
GEO:40.5538681;-75.981615
END:VEVENT
END:VCALENDAR