BEGIN:VCALENDAR
VERSION:2.0
PRODID:-//Tukios.com/
BEGIN:VEVENT
UID:2c1f17ea-ee39-416d-8b1e-da6cf6447893@www.leibenspergerfuneralhome.com
DTSTAMP:20260420T000017Z
DTSTART:20260423T173000Z
DTEND:20260423T183000Z
SUMMARY:Funeral Service
DESCRIPTION:
URL:https://www.leibenspergerfuneralhome.com/obituaries/paul-correll
LOCATION:Leibensperger Funeral Homes, Inc. 65 S. 4th Street  Hamburg PA 
	19526
GEO:40.5538681;-75.981615
END:VEVENT
END:VCALENDAR