BEGIN:VCALENDAR
VERSION:2.0
PRODID:-//Tukios.com/
BEGIN:VEVENT
UID:0af5af39-4c91-4f9c-87e1-6185fa106423@www.leibenspergerfuneralhome.com
DTSTAMP:20260420T192227Z
DTSTART:20260424
SUMMARY:Burial
DESCRIPTION:Immediately following Funeral Service
URL:https://www.leibenspergerfuneralhome.com/obituaries/annamae-shirk
LOCATION: 201 Evansville Rd  Fleetwood PA 19522
GEO:40.4586348;-75.8846204
END:VEVENT
END:VCALENDAR