BEGIN:VCALENDAR
VERSION:2.0
PRODID:-//Tukios.com/
BEGIN:VEVENT
UID:e256fb0a-a6f4-45c0-87e5-c117aadc5d1e@www.leibenspergerfuneralhome.com
DTSTAMP:20260420T193001Z
DTSTART:20260424T140000Z
DTEND:20260424T150000Z
SUMMARY:Same Day Viewing
DESCRIPTION:
URL:https://www.leibenspergerfuneralhome.com/obituaries/annamae-shirk
LOCATION:Leibensperger Funeral Homes, Inc. - Leesport 223 Peach Street  
	Leesport PA 19533
GEO:40.4496135;-75.95943
END:VEVENT
END:VCALENDAR