BEGIN:VCALENDAR
VERSION:2.0
PRODID:-//Tukios.com/
BEGIN:VEVENT
UID:3e97c781-3c18-4367-a0c4-ddff5a529adb@www.leibenspergerfuneralhome.com
DTSTAMP:20260420T193129Z
DTSTART:20260424T150000Z
DTEND:20260424T160000Z
SUMMARY:Funeral Service
DESCRIPTION:
URL:https://www.leibenspergerfuneralhome.com/obituaries/annamae-shirk
LOCATION:Leibensperger Funeral Homes, Inc. - Leesport 223 Peach Street  
	Leesport PA 19533
GEO:40.4496135;-75.95943
END:VEVENT
END:VCALENDAR